BEGIN:VCALENDAR
VERSION:2.0
PRODID:-//Broadway Academy at Willow - ECPv5.16.4//NONSGML v1.0//EN
CALSCALE:GREGORIAN
METHOD:PUBLISH
X-WR-CALNAME:Broadway Academy at Willow
X-ORIGINAL-URL:https://acabroadway.com
X-WR-CALDESC:Events for Broadway Academy at Willow
BEGIN:VTIMEZONE
TZID:America/New_York
BEGIN:DAYLIGHT
TZOFFSETFROM:-0500
TZOFFSETTO:-0400
TZNAME:EDT
DTSTART:20220313T070000
END:DAYLIGHT
BEGIN:STANDARD
TZOFFSETFROM:-0400
TZOFFSETTO:-0500
TZNAME:EST
DTSTART:20221106T060000
END:STANDARD
END:VTIMEZONE
BEGIN:VEVENT
DTSTART;TZID=America/New_York:20221207T100000
DTEND;TZID=America/New_York:20221207T110000
DTSTAMP:20260424T190656
CREATED:20221118T172758Z
LAST-MODIFIED:20221118T172758Z
UID:7859-1670407200-1670410800@acabroadway.com
SUMMARY:Virtual Storytime with The Grinch
DESCRIPTION:Circle round for a festive read aloud of The Grinch Who Stole Christmas! \n• Ages 4-5 & Parent or Caretaker\n• Character Visit by The Grinch\n• Guided Craft (free download)\n• Learn about EK & K Registration \nRSVP Today! acabroadway.com/events
URL:https://acabroadway.com/event/virtual-storytime-with-the-grinch/
LOCATION:Virtual
CATEGORIES:Calendar Only
END:VEVENT
END:VCALENDAR