BEGIN:VCALENDAR
VERSION:2.0
PRODID:-//Broadway Academy at Willow - ECPv5.16.4//NONSGML v1.0//EN
CALSCALE:GREGORIAN
METHOD:PUBLISH
X-WR-CALNAME:Broadway Academy at Willow
X-ORIGINAL-URL:https://acabroadway.com
X-WR-CALDESC:Events for Broadway Academy at Willow
BEGIN:VTIMEZONE
TZID:America/New_York
BEGIN:DAYLIGHT
TZOFFSETFROM:-0500
TZOFFSETTO:-0400
TZNAME:EDT
DTSTART:20220313T070000
END:DAYLIGHT
BEGIN:STANDARD
TZOFFSETFROM:-0400
TZOFFSETTO:-0500
TZNAME:EST
DTSTART:20221106T060000
END:STANDARD
END:VTIMEZONE
BEGIN:VEVENT
DTSTART;TZID=America/New_York:20220803T103000
DTEND;TZID=America/New_York:20220803T110000
DTSTAMP:20260424T225708
CREATED:20220721T161602Z
LAST-MODIFIED:20220721T161602Z
UID:7390-1659522600-1659524400@acabroadway.com
SUMMARY:Virtual Story Time & Book Giveaway: School's First Day of School
DESCRIPTION:Join us for a fun virtual storytime event for the back-to-school season. Incoming K-3 students will love the story of School’s First Day of School which is told from the perspective of the school building! It’s the perfect way to settle nerves and build excitement for a great first day of school! RSVP to win a set of books illustrated by Christian Robinson. The winner will be announced during the event and books will be available for pick up at the front office. \nRSVP acabroadway.com/events \nReady to enroll? Be prepared with the following documents: \n\n Child’s Birth Certificate \nProof of Residence\n Parent ID (for primary\, custodial parent)\n Immunization Records\n\n For more information about these documents\, please visit our Enrollment Resources page at: https://accelschools.com/enrollment-resources-ohio/
URL:https://acabroadway.com/event/virtual-story-time-book-giveaway-schools-first-day-of-school/
LOCATION:Virtual
CATEGORIES:Calendar Only,Prospective Families, Events, Home
END:VEVENT
END:VCALENDAR