BEGIN:VCALENDAR
VERSION:2.0
PRODID:-//Broadway Academy at Willow - ECPv5.16.4//NONSGML v1.0//EN
CALSCALE:GREGORIAN
METHOD:PUBLISH
X-WR-CALNAME:Broadway Academy at Willow
X-ORIGINAL-URL:https://acabroadway.com
X-WR-CALDESC:Events for Broadway Academy at Willow
BEGIN:VTIMEZONE
TZID:America/New_York
BEGIN:DAYLIGHT
TZOFFSETFROM:-0500
TZOFFSETTO:-0400
TZNAME:EDT
DTSTART:20200308T070000
END:DAYLIGHT
BEGIN:STANDARD
TZOFFSETFROM:-0400
TZOFFSETTO:-0500
TZNAME:EST
DTSTART:20201101T060000
END:STANDARD
END:VTIMEZONE
BEGIN:VEVENT
DTSTART;TZID=America/New_York:20200708T170000
DTEND;TZID=America/New_York:20200708T180000
DTSTAMP:20260425T002023
CREATED:20200623T191453Z
LAST-MODIFIED:20200623T191453Z
UID:3898-1594227600-1594231200@acabroadway.com
SUMMARY:Virtual Open House
DESCRIPTION:Learn more about Broadway Academy at our virtual open house! \nMeet the principal and staff\, take an online school tour\, and learn how to register for the upcoming school year. We can’t wait to welcome you to our school! \nRSVP here to receive details in advance about how to access this live meeting.
URL:https://acabroadway.com/event/virtual-open-house/
CATEGORIES:Calendar Only,Prospective Families, Events, Home
END:VEVENT
END:VCALENDAR