BEGIN:VCALENDAR
VERSION:2.0
PRODID:-//Broadway Academy at Willow - ECPv5.16.4//NONSGML v1.0//EN
CALSCALE:GREGORIAN
METHOD:PUBLISH
X-WR-CALNAME:Broadway Academy at Willow
X-ORIGINAL-URL:https://acabroadway.com
X-WR-CALDESC:Events for Broadway Academy at Willow
BEGIN:VTIMEZONE
TZID:America/New_York
BEGIN:DAYLIGHT
TZOFFSETFROM:-0500
TZOFFSETTO:-0400
TZNAME:EDT
DTSTART:20210314T070000
END:DAYLIGHT
BEGIN:STANDARD
TZOFFSETFROM:-0400
TZOFFSETTO:-0500
TZNAME:EST
DTSTART:20211107T060000
END:STANDARD
END:VTIMEZONE
BEGIN:VEVENT
DTSTART;TZID=America/New_York:20210421T171500
DTEND;TZID=America/New_York:20210421T171500
DTSTAMP:20260424T224541
CREATED:20210408T135520Z
LAST-MODIFIED:20210408T135520Z
UID:5669-1619025300-1619025300@acabroadway.com
SUMMARY:Virtual Board Meeting
DESCRIPTION:Join Zoom Meeting\n\n\nhttps://us02web.zoom.us/j/88945594198?\npwd=TDljY1haL2RpdVkwRVdyQmJCQ0IyQT09\n\n\nMeeting ID:  889 4559 4198\n\n\nPassword:  718555\n\n\nOne tap mobile\n\n\n+16465588656\,\,88945594198#\,\,\,\,*718555# US (New York)\n\n\n+13017158592\,\,88945594198#\,\,\,\,*718555# US (Washington DC)\n\n\n\n  \nThe purpose of this meeting is to consider various administrative matters and to address any other general business that may properly come before the Board of Directors.
URL:https://acabroadway.com/event/virtual-board-meeting-9/
LOCATION:Virtual
CATEGORIES:Calendar Only,School Board
END:VEVENT
END:VCALENDAR