BEGIN:VCALENDAR
VERSION:2.0
PRODID:-//Broadway Academy at Willow - ECPv5.16.4//NONSGML v1.0//EN
CALSCALE:GREGORIAN
METHOD:PUBLISH
X-WR-CALNAME:Broadway Academy at Willow
X-ORIGINAL-URL:https://acabroadway.com
X-WR-CALDESC:Events for Broadway Academy at Willow
BEGIN:VTIMEZONE
TZID:America/New_York
BEGIN:DAYLIGHT
TZOFFSETFROM:-0500
TZOFFSETTO:-0400
TZNAME:EDT
DTSTART:20210314T070000
END:DAYLIGHT
BEGIN:STANDARD
TZOFFSETFROM:-0400
TZOFFSETTO:-0500
TZNAME:EST
DTSTART:20211107T060000
END:STANDARD
END:VTIMEZONE
BEGIN:VEVENT
DTSTART;TZID=America/New_York:20210317T170000
DTEND;TZID=America/New_York:20210317T170000
DTSTAMP:20260424T224548
CREATED:20210316T140153Z
LAST-MODIFIED:20210316T140153Z
UID:5468-1616000400-1616000400@acabroadway.com
SUMMARY:Virtual Board Meeting
DESCRIPTION:Join Zoom Meeting\n\n\nhttps://us02web.zoom.us/j/82807904271? pwd=Znh2UENXcmN2YjB1SElSSktpTGtLdz09\n\n\nMeeting ID:  828 0790 4271\n\n\nPassword:  323107\n\n\nOne tap mobile\n\n\n+13017158592\,\,82807904271#\,\,\,\,*323107# US (Washington DC)\n\n\n+13126266799\,\,82807904271#\,\,\,\,*323107# US (Chicago)
URL:https://acabroadway.com/event/virtual-board-meeting-8/
LOCATION:Virtual
CATEGORIES:Calendar Only,School Board
END:VEVENT
END:VCALENDAR