BEGIN:VCALENDAR
VERSION:2.0
PRODID:-//Broadway Academy at Willow - ECPv5.16.4//NONSGML v1.0//EN
CALSCALE:GREGORIAN
METHOD:PUBLISH
X-WR-CALNAME:Broadway Academy at Willow
X-ORIGINAL-URL:https://acabroadway.com
X-WR-CALDESC:Events for Broadway Academy at Willow
BEGIN:VTIMEZONE
TZID:America/New_York
BEGIN:DAYLIGHT
TZOFFSETFROM:-0500
TZOFFSETTO:-0400
TZNAME:EDT
DTSTART:20210314T070000
END:DAYLIGHT
BEGIN:STANDARD
TZOFFSETFROM:-0400
TZOFFSETTO:-0500
TZNAME:EST
DTSTART:20211107T060000
END:STANDARD
END:VTIMEZONE
BEGIN:VEVENT
DTSTART;TZID=America/New_York:20210111T171500
DTEND;TZID=America/New_York:20210111T171500
DTSTAMP:20260424T224541
CREATED:20210108T193956Z
LAST-MODIFIED:20210108T193956Z
UID:5204-1610385300-1610385300@acabroadway.com
SUMMARY:Virtual Board Meeting
DESCRIPTION:Join Zoom Meeting\n\n\nhttps://us02web.zoom.us/j/81743032455?pwd=WkRTcWZ2Ukp5L1dlUVVJaVR2dzZ2dz09\n\n\nMeeting ID:  817 4303 2455\n\n\nPasscode: 762794\n\n\nOne tap mobile\n\n\n+13017158592\,\,81743032455#\,\,\,\,*762794# US (Washington D.C) \n+13126266799\,\,81743032455#\,\,\,\,*762794# US (Chicago)
URL:https://acabroadway.com/event/virtual-board-meeting-7/
LOCATION:Virtual
CATEGORIES:Calendar Only,School Board
END:VEVENT
END:VCALENDAR