BEGIN:VCALENDAR
VERSION:2.0
PRODID:-//Broadway Academy at Willow - ECPv5.16.4//NONSGML v1.0//EN
CALSCALE:GREGORIAN
METHOD:PUBLISH
X-WR-CALNAME:Broadway Academy at Willow
X-ORIGINAL-URL:https://acabroadway.com
X-WR-CALDESC:Events for Broadway Academy at Willow
BEGIN:VTIMEZONE
TZID:America/New_York
BEGIN:DAYLIGHT
TZOFFSETFROM:-0500
TZOFFSETTO:-0400
TZNAME:EDT
DTSTART:20210314T070000
END:DAYLIGHT
BEGIN:STANDARD
TZOFFSETFROM:-0400
TZOFFSETTO:-0500
TZNAME:EST
DTSTART:20211107T060000
END:STANDARD
END:VTIMEZONE
BEGIN:VEVENT
DTSTART;TZID=America/New_York:20210120T171500
DTEND;TZID=America/New_York:20210120T171500
DTSTAMP:20260424T224548
CREATED:20210106T155658Z
LAST-MODIFIED:20210106T155658Z
UID:5168-1611162900-1611162900@acabroadway.com
SUMMARY:Virtual Board Meeting
DESCRIPTION:Join Zoom Meeting\n\n\nhttps://us02web.zoom.us/j/86787975759? pwd=R1J0K2FDNDJoY2FLcG1LQ3JXOVRNQT09\n\n\nMeeting ID:  867 8797 5759\n\n\nPasscode:  971087\n\n\nOne tap mobile\n\n\n+13017158592\,\,86787975759#\,\,\,\,*971087# US (Washington D.C)\n\n\n+13126266799\,\,86787975759#\,\,\,\,*971087# US (Chicago)
URL:https://acabroadway.com/event/virtual-board-meeting-6/
LOCATION:Virtual
CATEGORIES:Calendar Only,School Board
END:VEVENT
END:VCALENDAR