BEGIN:VCALENDAR
VERSION:2.0
PRODID:-//Broadway Academy at Willow - ECPv5.16.4//NONSGML v1.0//EN
CALSCALE:GREGORIAN
METHOD:PUBLISH
X-WR-CALNAME:Broadway Academy at Willow
X-ORIGINAL-URL:https://acabroadway.com
X-WR-CALDESC:Events for Broadway Academy at Willow
BEGIN:VTIMEZONE
TZID:America/New_York
BEGIN:DAYLIGHT
TZOFFSETFROM:-0500
TZOFFSETTO:-0400
TZNAME:EDT
DTSTART:20200308T070000
END:DAYLIGHT
BEGIN:STANDARD
TZOFFSETFROM:-0400
TZOFFSETTO:-0500
TZNAME:EST
DTSTART:20201101T060000
END:STANDARD
END:VTIMEZONE
BEGIN:VEVENT
DTSTART;TZID=America/New_York:20201118T171500
DTEND;TZID=America/New_York:20201118T171500
DTSTAMP:20260424T223958
CREATED:20201104T151016Z
LAST-MODIFIED:20201104T151016Z
UID:5101-1605719700-1605719700@acabroadway.com
SUMMARY:Virtual Board Meeting
DESCRIPTION:Join Zoom Meeting\n\n\nhttps://us02web.zoom.us/j/83250270558? pwd=OFVYd2pYaUVrSkZxRGJvRFp2VmhXZz09\n\n\nMeeting ID:  832 5027 0558\n\n\nPassword:  848091\n\n\nOne tap mobile\n\n\n+13017158592\,\,83250270558#\,\,\,\,\,\,0#\,\,848091# US (Germantown)\n\n\n+13126266799\,\,83250270558#\,\,\,\,\,\,0#\,\,848091# US (Chicago)
URL:https://acabroadway.com/event/virtual-board-meeting-4/
LOCATION:Virtual
CATEGORIES:Calendar Only,School Board
END:VEVENT
END:VCALENDAR