BEGIN:VCALENDAR
VERSION:2.0
PRODID:-//Broadway Academy at Willow - ECPv5.16.4//NONSGML v1.0//EN
CALSCALE:GREGORIAN
METHOD:PUBLISH
X-WR-CALNAME:Broadway Academy at Willow
X-ORIGINAL-URL:https://acabroadway.com
X-WR-CALDESC:Events for Broadway Academy at Willow
BEGIN:VTIMEZONE
TZID:America/New_York
BEGIN:DAYLIGHT
TZOFFSETFROM:-0500
TZOFFSETTO:-0400
TZNAME:EDT
DTSTART:20210314T070000
END:DAYLIGHT
BEGIN:STANDARD
TZOFFSETFROM:-0400
TZOFFSETTO:-0500
TZNAME:EST
DTSTART:20211107T060000
END:STANDARD
END:VTIMEZONE
BEGIN:VEVENT
DTSTART;TZID=America/New_York:20210629T171500
DTEND;TZID=America/New_York:20210629T171500
DTSTAMP:20260424T225542
CREATED:20210625T163155Z
LAST-MODIFIED:20210625T163155Z
UID:5873-1624986900-1624986900@acabroadway.com
SUMMARY:Virtual Board Meeting
DESCRIPTION:Join Zoom Meeting\n\n\nhttps://us02web.zoom.us/j/81024825848?\npwd=WGtyT3phUXU3R3dscHNCWHJGMkw2dz09\n\n\nMeeting ID:  810 2482 5848\n\n\nPassword:  643530\n\n\nOne tap mobile\n\n\n+13126266799\,\,81024825848#\,\,\,\,*643530# US (Chicago)\n\n\n+16465588656\,\,81024825848#\,\,\,\,*643530# US (New York)\n\n\n\n  \nThe purpose of this meeting is to discuss special education matters.
URL:https://acabroadway.com/event/virtual-board-meeting-13/
LOCATION:Virtual
CATEGORIES:Calendar Only,School Board
END:VEVENT
END:VCALENDAR