BEGIN:VCALENDAR
VERSION:2.0
PRODID:-//Broadway Academy at Willow - ECPv5.16.4//NONSGML v1.0//EN
CALSCALE:GREGORIAN
METHOD:PUBLISH
X-WR-CALNAME:Broadway Academy at Willow
X-ORIGINAL-URL:https://acabroadway.com
X-WR-CALDESC:Events for Broadway Academy at Willow
BEGIN:VTIMEZONE
TZID:America/New_York
BEGIN:DAYLIGHT
TZOFFSETFROM:-0500
TZOFFSETTO:-0400
TZNAME:EDT
DTSTART:20210314T070000
END:DAYLIGHT
BEGIN:STANDARD
TZOFFSETFROM:-0400
TZOFFSETTO:-0500
TZNAME:EST
DTSTART:20211107T060000
END:STANDARD
END:VTIMEZONE
BEGIN:VEVENT
DTSTART;TZID=America/New_York:20210519T171500
DTEND;TZID=America/New_York:20210519T171500
DTSTAMP:20260424T224629
CREATED:20210504T143307Z
LAST-MODIFIED:20210504T143307Z
UID:5718-1621444500-1621444500@acabroadway.com
SUMMARY:Virtual Board Meeting
DESCRIPTION:Join Zoom Meeting\n\n\nhttps://us02web.zoom.us/j/89666914718?\npwd=WGtYWGYvenFieFM2RTlhTlJpeXlmdz09\n\n\nMeeting ID:  896 6691 4718\n\n\nPassword:  928662\n\n\nOne tap mobile\n\n\n+13126266799\,\,89666914718#\,\,\,\,*928662# US (Chicago)\n\n\n+16465588656\,\,89666914718#\,\,\,\,*928662# US (New York)\n\n\n\n  \nThe purpose of this meeting is to consider various administrative matters and to address any other general business that may properly come before the Board of Directors.
URL:https://acabroadway.com/event/virtual-board-meeting-10/
LOCATION:Virtual
CATEGORIES:Calendar Only,School Board
END:VEVENT
END:VCALENDAR