BEGIN:VCALENDAR
VERSION:2.0
PRODID:-//Broadway Academy at Willow - ECPv5.16.4//NONSGML v1.0//EN
CALSCALE:GREGORIAN
METHOD:PUBLISH
X-WR-CALNAME:Broadway Academy at Willow
X-ORIGINAL-URL:https://acabroadway.com
X-WR-CALDESC:Events for Broadway Academy at Willow
BEGIN:VTIMEZONE
TZID:America/New_York
BEGIN:DAYLIGHT
TZOFFSETFROM:-0500
TZOFFSETTO:-0400
TZNAME:EDT
DTSTART:20220313T070000
END:DAYLIGHT
BEGIN:STANDARD
TZOFFSETFROM:-0400
TZOFFSETTO:-0500
TZNAME:EST
DTSTART:20221106T060000
END:STANDARD
END:VTIMEZONE
BEGIN:VEVENT
DTSTART;TZID=America/New_York:20221027T140000
DTEND;TZID=America/New_York:20221027T150000
DTSTAMP:20260425T085648
CREATED:20221018T165335Z
LAST-MODIFIED:20221021T134050Z
UID:7772-1666879200-1666882800@acabroadway.com
SUMMARY:Trunk or Treat
DESCRIPTION:It’s time to Trunk or Treat Broadway Academy at Willow! Wear your Halloween costume and enjoy us for lots of fun and FREE candy. 
URL:https://acabroadway.com/event/trunk-or-treat/
LOCATION:Broadway Academy\, 5004 Glazier Ave.\, Cleveland\, OH\, 44127\, United States
CATEGORIES:Calendar Only
GEO:41.4663151;-81.6520384
X-APPLE-STRUCTURED-LOCATION;VALUE=URI;X-ADDRESS=Broadway Academy 5004 Glazier Ave. Cleveland OH 44127 United States;X-APPLE-RADIUS=500;X-TITLE=5004 Glazier Ave.:geo:-81.6520384,41.4663151
END:VEVENT
END:VCALENDAR