BEGIN:VCALENDAR
VERSION:2.0
PRODID:-//Broadway Academy at Willow - ECPv5.16.4//NONSGML v1.0//EN
CALSCALE:GREGORIAN
METHOD:PUBLISH
X-WR-CALNAME:Broadway Academy at Willow
X-ORIGINAL-URL:https://acabroadway.com
X-WR-CALDESC:Events for Broadway Academy at Willow
BEGIN:VTIMEZONE
TZID:America/New_York
BEGIN:DAYLIGHT
TZOFFSETFROM:-0500
TZOFFSETTO:-0400
TZNAME:EDT
DTSTART:20240310T070000
END:DAYLIGHT
BEGIN:STANDARD
TZOFFSETFROM:-0400
TZOFFSETTO:-0500
TZNAME:EST
DTSTART:20241103T060000
END:STANDARD
END:VTIMEZONE
BEGIN:VEVENT
DTSTART;TZID=America/New_York:20240912T180000
DTEND;TZID=America/New_York:20240912T200000
DTSTAMP:20260424T153405
CREATED:20240906T192745Z
LAST-MODIFIED:20240906T192745Z
UID:10008-1726164000-1726171200@acabroadway.com
SUMMARY:Skate into September
DESCRIPTION:Glide into Halloween at family skate night at Zelma Watson George Skating Rink at 3155 Martin Luther King Jr Dr\, Cleveland\, OH 44104! Enjoy fall-fastic fun with our staff and families! Free skates for the first 100 students and bring a friend and be entered to win a raffle! It’s not too late to enroll for the school year–bring a friend!  \nRSVP Today: acabroadway.com/events
URL:https://acabroadway.com/event/skate-into-september/
LOCATION:Broadway Academy\, 5004 Glazier Ave.\, Cleveland\, OH\, 44127\, United States
CATEGORIES:Calendar Only,Prospective Families, Events, Home
GEO:41.4663151;-81.6520384
X-APPLE-STRUCTURED-LOCATION;VALUE=URI;X-ADDRESS=Broadway Academy 5004 Glazier Ave. Cleveland OH 44127 United States;X-APPLE-RADIUS=500;X-TITLE=5004 Glazier Ave.:geo:-81.6520384,41.4663151
END:VEVENT
END:VCALENDAR