BEGIN:VCALENDAR
VERSION:2.0
PRODID:-//Broadway Academy at Willow - ECPv5.16.4//NONSGML v1.0//EN
CALSCALE:GREGORIAN
METHOD:PUBLISH
X-WR-CALNAME:Broadway Academy at Willow
X-ORIGINAL-URL:https://acabroadway.com
X-WR-CALDESC:Events for Broadway Academy at Willow
BEGIN:VTIMEZONE
TZID:America/New_York
BEGIN:DAYLIGHT
TZOFFSETFROM:-0500
TZOFFSETTO:-0400
TZNAME:EDT
DTSTART:20220313T070000
END:DAYLIGHT
BEGIN:STANDARD
TZOFFSETFROM:-0400
TZOFFSETTO:-0500
TZNAME:EST
DTSTART:20221106T060000
END:STANDARD
END:VTIMEZONE
BEGIN:VEVENT
DTSTART;VALUE=DATE:20220926
DTEND;VALUE=DATE:20220927
DTSTAMP:20260425T084852
CREATED:20220624T173341Z
LAST-MODIFIED:20220624T173341Z
UID:7186-1664150400-1664236799@acabroadway.com
SUMMARY:No School - Staff Professional Development
DESCRIPTION:
URL:https://acabroadway.com/event/no-school-staff-professional-development-2/
LOCATION:Broadway Academy\, 5004 Glazier Ave.\, Cleveland\, OH\, 44127\, United States
CATEGORIES:Calendar Only
GEO:41.4663151;-81.6520384
X-APPLE-STRUCTURED-LOCATION;VALUE=URI;X-ADDRESS=Broadway Academy 5004 Glazier Ave. Cleveland OH 44127 United States;X-APPLE-RADIUS=500;X-TITLE=5004 Glazier Ave.:geo:-81.6520384,41.4663151
END:VEVENT
END:VCALENDAR