BEGIN:VCALENDAR
VERSION:2.0
PRODID:-//Broadway Academy at Willow - ECPv5.16.4//NONSGML v1.0//EN
CALSCALE:GREGORIAN
METHOD:PUBLISH
X-WR-CALNAME:Broadway Academy at Willow
X-ORIGINAL-URL:https://acabroadway.com
X-WR-CALDESC:Events for Broadway Academy at Willow
BEGIN:VTIMEZONE
TZID:America/New_York
BEGIN:DAYLIGHT
TZOFFSETFROM:-0500
TZOFFSETTO:-0400
TZNAME:EDT
DTSTART:20230312T070000
END:DAYLIGHT
BEGIN:STANDARD
TZOFFSETFROM:-0400
TZOFFSETTO:-0500
TZNAME:EST
DTSTART:20231105T060000
END:STANDARD
END:VTIMEZONE
BEGIN:VEVENT
DTSTART;TZID=America/New_York:20230816T120000
DTEND;TZID=America/New_York:20230816T170000
DTSTAMP:20260424T153123
CREATED:20230512T173012Z
LAST-MODIFIED:20230512T173012Z
UID:8374-1692187200-1692205200@acabroadway.com
SUMMARY:Lemonade with Leadership
DESCRIPTION:Sip\, sip\, hooray for hanging out with our school leadership team and getting aquainted with our unique programs and upcoming school year! Enjoy refreshing lemonade\, school tours\, the opportunity to meet our principal and staff. Preview the enrollment process or register same day. \nRSVP today! acabroadway.com/events
URL:https://acabroadway.com/event/lemonade-with-leadership/
LOCATION:Broadway Academy\, 5004 Glazier Ave.\, Cleveland\, OH\, 44127\, United States
CATEGORIES:Calendar Only,Prospective Families, Events, Home
ORGANIZER;CN="School":MAILTO:test@test.com
GEO:41.4663151;-81.6520384
X-APPLE-STRUCTURED-LOCATION;VALUE=URI;X-ADDRESS=Broadway Academy 5004 Glazier Ave. Cleveland OH 44127 United States;X-APPLE-RADIUS=500;X-TITLE=5004 Glazier Ave.:geo:-81.6520384,41.4663151
END:VEVENT
END:VCALENDAR