BEGIN:VCALENDAR
VERSION:2.0
PRODID:-//Broadway Academy at Willow - ECPv5.16.4//NONSGML v1.0//EN
CALSCALE:GREGORIAN
METHOD:PUBLISH
X-WR-CALNAME:Broadway Academy at Willow
X-ORIGINAL-URL:https://acabroadway.com
X-WR-CALDESC:Events for Broadway Academy at Willow
BEGIN:VTIMEZONE
TZID:America/New_York
BEGIN:DAYLIGHT
TZOFFSETFROM:-0500
TZOFFSETTO:-0400
TZNAME:EDT
DTSTART:20200308T070000
END:DAYLIGHT
BEGIN:STANDARD
TZOFFSETFROM:-0400
TZOFFSETTO:-0500
TZNAME:EST
DTSTART:20201101T060000
END:STANDARD
END:VTIMEZONE
BEGIN:VEVENT
DTSTART;TZID=America/New_York:20200521T130000
DTEND;TZID=America/New_York:20200521T143000
DTSTAMP:20260425T103723
CREATED:20200518T192159Z
LAST-MODIFIED:20200518T192159Z
UID:3496-1590066000-1590071400@acabroadway.com
SUMMARY:End of the Year Extravaganza
DESCRIPTION:It has been our annual standard to host an “End of the Year Extravaganza” celebrating students\, parents\, faculty & staff. This year we are doing “A Parking Lot Drive-Thru Celebration” on Thursday\, May 21st at 1:00pm – 2:30pm. We will celebrate all kindergarten students being promoted to first grade\, and the school as a whole for doing a job well done. Please join the Broadway Academy family in fun\, frolic\, and fellowship in a safe manner.
URL:https://acabroadway.com/event/end-year-extravaganza-2/
LOCATION:Broadway Academy\, 5004 Glazier Ave.\, Cleveland\, OH\, 44127\, United States
CATEGORIES:Calendar Only,Prospective Families, Events, Home
GEO:41.4663151;-81.6520384
X-APPLE-STRUCTURED-LOCATION;VALUE=URI;X-ADDRESS=Broadway Academy 5004 Glazier Ave. Cleveland OH 44127 United States;X-APPLE-RADIUS=500;X-TITLE=5004 Glazier Ave.:geo:-81.6520384,41.4663151
END:VEVENT
END:VCALENDAR