BEGIN:VCALENDAR
VERSION:2.0
PRODID:-//Broadway Academy at Willow - ECPv5.16.4//NONSGML v1.0//EN
CALSCALE:GREGORIAN
METHOD:PUBLISH
X-WR-CALNAME:Broadway Academy at Willow
X-ORIGINAL-URL:https://acabroadway.com
X-WR-CALDESC:Events for Broadway Academy at Willow
BEGIN:VTIMEZONE
TZID:America/New_York
BEGIN:DAYLIGHT
TZOFFSETFROM:-0500
TZOFFSETTO:-0400
TZNAME:EDT
DTSTART:20220313T070000
END:DAYLIGHT
BEGIN:STANDARD
TZOFFSETFROM:-0400
TZOFFSETTO:-0500
TZNAME:EST
DTSTART:20221106T060000
END:STANDARD
END:VTIMEZONE
BEGIN:VEVENT
DTSTART;TZID=America/New_York:20220316T171500
DTEND;TZID=America/New_York:20220316T171500
DTSTAMP:20260424T171354
CREATED:20220128T194049Z
LAST-MODIFIED:20220128T194049Z
UID:6727-1647450900-1647450900@acabroadway.com
SUMMARY:Board Meeting
DESCRIPTION:
URL:https://acabroadway.com/event/board-meeting-20/
LOCATION:Broadway Academy at Mount Pleasant\, 3845 E 131st St\, Cleveland\, OH\, 44120
CATEGORIES:Calendar Only,School Board
END:VEVENT
END:VCALENDAR