BEGIN:VCALENDAR
VERSION:2.0
PRODID:-//Broadway Academy at Willow - ECPv5.16.4//NONSGML v1.0//EN
CALSCALE:GREGORIAN
METHOD:PUBLISH
X-WR-CALNAME:Broadway Academy at Willow
X-ORIGINAL-URL:https://acabroadway.com
X-WR-CALDESC:Events for Broadway Academy at Willow
BEGIN:VTIMEZONE
TZID:America/New_York
BEGIN:DAYLIGHT
TZOFFSETFROM:-0500
TZOFFSETTO:-0400
TZNAME:EDT
DTSTART:20210314T070000
END:DAYLIGHT
BEGIN:STANDARD
TZOFFSETFROM:-0400
TZOFFSETTO:-0500
TZNAME:EST
DTSTART:20211107T060000
END:STANDARD
END:VTIMEZONE
BEGIN:VEVENT
DTSTART;TZID=America/New_York:20211117T171500
DTEND;TZID=America/New_York:20211117T171500
DTSTAMP:20260425T160156
CREATED:20211103T171909Z
LAST-MODIFIED:20211103T171909Z
UID:6586-1637169300-1637169300@acabroadway.com
SUMMARY:Board Meeting
DESCRIPTION:The purpose of the hearing is to review information\, to allow comments from the community regarding the school’s Food Allergy Policy\, to consider various administrative matters\, and to address any other general business that may properly come before the Board of Directors.
URL:https://acabroadway.com/event/board-meeting-17/
LOCATION:West Park Academy\, 12913 Bennington Avenue\, Cleveland\, OH\, United States
CATEGORIES:Calendar Only,School Board
END:VEVENT
END:VCALENDAR