BEGIN:VCALENDAR
VERSION:2.0
PRODID:-//Broadway Academy at Willow - ECPv5.16.4//NONSGML v1.0//EN
CALSCALE:GREGORIAN
METHOD:PUBLISH
X-WR-CALNAME:Broadway Academy at Willow
X-ORIGINAL-URL:https://acabroadway.com
X-WR-CALDESC:Events for Broadway Academy at Willow
BEGIN:VTIMEZONE
TZID:America/New_York
BEGIN:DAYLIGHT
TZOFFSETFROM:-0500
TZOFFSETTO:-0400
TZNAME:EDT
DTSTART:20250309T070000
END:DAYLIGHT
BEGIN:STANDARD
TZOFFSETFROM:-0400
TZOFFSETTO:-0500
TZNAME:EST
DTSTART:20251102T060000
END:STANDARD
END:VTIMEZONE
BEGIN:VEVENT
DTSTART;TZID=America/New_York:20250521T171500
DTEND;TZID=America/New_York:20250521T171500
DTSTAMP:20260425T081755
CREATED:20250114T185057Z
LAST-MODIFIED:20250114T185057Z
UID:10082-1747847700-1747847700@acabroadway.com
SUMMARY:Board Meeting
DESCRIPTION:
URL:https://acabroadway.com/event/board-meeting-44/
LOCATION:Broadway Academy\, 5004 Glazier Ave.\, Cleveland\, OH\, 44127\, United States
CATEGORIES:Calendar Only,School Board
GEO:41.4663151;-81.6520384
X-APPLE-STRUCTURED-LOCATION;VALUE=URI;X-ADDRESS=Broadway Academy 5004 Glazier Ave. Cleveland OH 44127 United States;X-APPLE-RADIUS=500;X-TITLE=5004 Glazier Ave.:geo:-81.6520384,41.4663151
END:VEVENT
END:VCALENDAR