BEGIN:VCALENDAR
VERSION:2.0
PRODID:-//Broadway Academy at Willow - ECPv5.16.4//NONSGML v1.0//EN
CALSCALE:GREGORIAN
METHOD:PUBLISH
X-WR-CALNAME:Broadway Academy at Willow
X-ORIGINAL-URL:https://acabroadway.com
X-WR-CALDESC:Events for Broadway Academy at Willow
BEGIN:VTIMEZONE
TZID:America/New_York
BEGIN:DAYLIGHT
TZOFFSETFROM:-0500
TZOFFSETTO:-0400
TZNAME:EDT
DTSTART:20250309T070000
END:DAYLIGHT
BEGIN:STANDARD
TZOFFSETFROM:-0400
TZOFFSETTO:-0500
TZNAME:EST
DTSTART:20251102T060000
END:STANDARD
END:VTIMEZONE
BEGIN:VEVENT
DTSTART;TZID=America/New_York:20250115T171500
DTEND;TZID=America/New_York:20250115T171500
DTSTAMP:20260425T153229
CREATED:20250114T184650Z
LAST-MODIFIED:20250114T184650Z
UID:10074-1736961300-1736961300@acabroadway.com
SUMMARY:Board Meeting
DESCRIPTION:Notice is hereby given that on January 15\, 2025\, a meeting of the Board of Directors of Broadway Academy will be held at 5:15 p.m.  The Board meeting will be held at Broadway Academy\, located at 3845 E 131st Street\, Cleveland\, Ohio 44120. \nThe purpose of this meeting is to consider various administrative matters and to address any other general business that may properly come before the Board of Directors.
URL:https://acabroadway.com/event/board-meeting-40/
LOCATION:Broadway Academy\, 5004 Glazier Ave.\, Cleveland\, OH\, 44127\, United States
CATEGORIES:Calendar Only,School Board
GEO:41.4663151;-81.6520384
X-APPLE-STRUCTURED-LOCATION;VALUE=URI;X-ADDRESS=Broadway Academy 5004 Glazier Ave. Cleveland OH 44127 United States;X-APPLE-RADIUS=500;X-TITLE=5004 Glazier Ave.:geo:-81.6520384,41.4663151
END:VEVENT
END:VCALENDAR